BEGIN:VCALENDAR
VERSION:2.0
PRODID:-//eventon.com NONSGML v1.0//EN
CALSCALE:GREGORIAN
METHOD:PUBLISH
BEGIN:VEVENT
UID:69e87df39c3ec
DTSTAMP:20260422T075115Z
DTSTART:20230601T070000Z
DTEND:20230604T150000Z
LOCATION:SV de Vrijheid Achteromsedijk 8a
SUMMARY:Zwartkruit weekend 2023
DESCRIPTION:Zoals vanouds ons western weekend\nhttps://svdvh.nl/events/zwar
 tkruit-weekend-2023/
URL:https://svdvh.nl/events/zwartkruit-weekend-2023/
END:VEVENT
END:VCALENDAR