BEGIN:VCALENDAR
VERSION:2.0
PRODID:-//eventon.com NONSGML v1.0//EN
CALSCALE:GREGORIAN
METHOD:PUBLISH
BEGIN:VEVENT
UID:69e83b594b768
DTSTAMP:20260422T030705Z
DTSTART:20210715T063200Z
DTEND:20210716T213200Z
LOCATION:
SUMMARY:De vereniging is gesloten ivm onderhoud
DESCRIPTION:De vereniging is gesloten ivm onderhoud\nhttps://svdvh.nl/event
 s/de-vereniging-is-gesloten-ivm-onderhoud/
URL:https://svdvh.nl/events/de-vereniging-is-gesloten-ivm-onderhoud/
END:VEVENT
END:VCALENDAR