BEGIN:VCALENDAR
VERSION:2.0
PRODID:-//eventon.com NONSGML v1.0//EN
CALSCALE:GREGORIAN
METHOD:PUBLISH
BEGIN:VEVENT
UID:69e8323d03cca
DTSTAMP:20260422T022813Z
DTSTART:20211019T170000Z
DTEND:20211019T203000Z
LOCATION:
SUMMARY:AK Meestarkaart L/Z
DESCRIPTION:De 25 meterbaan is gesloten voor regulier schieten.\nhttps://sv
 dvh.nl/events/ak-meestarkaart-l-z/
URL:https://svdvh.nl/events/ak-meestarkaart-l-z/
END:VEVENT
END:VCALENDAR