BEGIN:VCALENDAR
VERSION:2.0
PRODID:-//eventon.com NONSGML v1.0//EN
CALSCALE:GREGORIAN
METHOD:PUBLISH
BEGIN:VEVENT
UID:69e9ab1ae7822
DTSTAMP:20260423T051610Z
DTSTART:20211202T180000Z
DTEND:20211202T213000Z
LOCATION:
SUMMARY:Militair Pistool
DESCRIPTION:50 meterbaan hele dag gesloten\nhttps://svdvh.nl/events/militai
 r-pistool/var/ri-1.l-L1
URL:https://svdvh.nl/events/militair-pistool/var/ri-1.l-L1
END:VEVENT
END:VCALENDAR