BEGIN:VCALENDAR
VERSION:2.0
PRODID:-//eventon.com NONSGML v1.0//EN
CALSCALE:GREGORIAN
METHOD:PUBLISH
BEGIN:VEVENT
UID:69e65167ac231
DTSTAMP:20260420T161639Z
DTSTART:20211021T170000Z
DTEND:20211021T205200Z
LOCATION:
SUMMARY:GEEN CURSUS!
DESCRIPTION:Gesloten ivm wedstrijden\nhttps://svdvh.nl/events/geen-cursus/
URL:https://svdvh.nl/events/geen-cursus/
END:VEVENT
END:VCALENDAR